BEGIN:VCALENDAR
VERSION:2.0
PRODID:icalendar-ruby
CALSCALE:GREGORIAN
METHOD:PUBLISH
BEGIN:VEVENT
DTSTAMP:20260421T094445Z
UID:5-399395@fbcleadhill.com
DTSTART:20261101T163000Z
DTEND:20261101T173000Z
CLASS:PUBLIC
CREATED:20260420T202306
DESCRIPTION:Sunday Worship
LAST-MODIFIED:20260420T202306
LOCATION:
SUMMARY:Sunday Worship
URL;VALUE=URI:https://www.fbcleadhill.com/events/sunday-worship/2026-11-01
END:VEVENT
END:VCALENDAR
