BEGIN:VCALENDAR
VERSION:2.0
PRODID:icalendar-ruby
CALSCALE:GREGORIAN
METHOD:PUBLISH
BEGIN:VEVENT
DTSTAMP:20260420T233121Z
UID:5-399130@fbcleadhill.com
DTSTART:20261004T153000Z
DTEND:20261004T163000Z
CLASS:PUBLIC
CREATED:20260420T174850
DESCRIPTION:Sunday Worship
LAST-MODIFIED:20260420T174850
LOCATION:
SUMMARY:Sunday Worship
URL;VALUE=URI:https://www.fbcleadhill.com/events/sunday-worship/2026-10-04
END:VEVENT
END:VCALENDAR
