BEGIN:VCALENDAR
VERSION:2.0
PRODID:icalendar-ruby
CALSCALE:GREGORIAN
METHOD:PUBLISH
BEGIN:VEVENT
DTSTAMP:20260420T220534Z
UID:5-398868@fbcleadhill.com
DTSTART:20260927T153000Z
DTEND:20260927T163000Z
CLASS:PUBLIC
CREATED:20260420T151325
DESCRIPTION:Sunday Worship
LAST-MODIFIED:20260420T151325
LOCATION:
SUMMARY:Sunday Worship
URL;VALUE=URI:https://www.fbcleadhill.com/events/sunday-worship/2026-09-27
END:VEVENT
END:VCALENDAR
